BEGIN:VCALENDAR
VERSION:2.0
PRODID:-//Goldgrube//myauktion.com//AT
CALSCALE:GREGORIAN
BEGIN:VEVENT
DTSTART:20260430T151900
DTEND:20260430T151930
LOCATION:Gewerbepark 13, 8562 Mooskirchen
DTSTAMP:20260424T165431
SUMMARY:MyAuktion: Ablauf Artikel Nr. 921176 Skistöcke 2 Paar Pirates und Lerisport ca 96cm und 114cm
URL;VALUE=URI:https://www.myauktion.com/versteigerung7634-position2436293-skistoecke-2-paar-pirates-und-lerisport-ca-96cm-und-114cm.php
DESCRIPTION:Gebraucht, Verschmutzt, verbogen 
UID:myauktion-7634-2436293
BEGIN:VALARM
ACTION:DISPLAY
DESCRIPTION:Gebraucht, Verschmutzt, verbogen 
TRIGGER:-PT10M
END:VALARM
END:VEVENT
END:VCALENDAR