BEGIN:VCALENDAR
VERSION:2.0
PRODID:-//Goldgrube//myauktion.com//AT
CALSCALE:GREGORIAN
BEGIN:VEVENT
DTSTART:20260502T165400
DTEND:20260502T165430
LOCATION:Gewerbepark 13, 8562 Mooskirchen
DTSTAMP:20260419T154434
SUMMARY:MyAuktion: Ablauf Artikel Nr. 952377 Ersatz Fusspedale für Rudergeräte 6 Paar 
URL;VALUE=URI:https://www.myauktion.com/versteigerung7644-position2437080-ersatz-fusspedale-fuer-rudergeraete-6-paar.php
DESCRIPTION:
UID:myauktion-7644-2437080
BEGIN:VALARM
ACTION:DISPLAY
DESCRIPTION:
TRIGGER:-PT10M
END:VALARM
END:VEVENT
END:VCALENDAR