BEGIN:VCALENDAR
VERSION:2.0
PRODID:-//Goldgrube//myauktion.com//AT
CALSCALE:GREGORIAN
BEGIN:VEVENT
DTSTART:20260502T165600
DTEND:20260502T165630
LOCATION:Gewerbepark 13, 8562 Mooskirchen
DTSTAMP:20260420T214340
SUMMARY:MyAuktion: Ablauf Artikel Nr. 952385 Posten Rohrschellen für Schildbefestigung Stückzahl nicht Bekannt  
URL;VALUE=URI:https://www.myauktion.com/versteigerung7644-position2437096-posten-rohrschellen-fuer-schildbefestigung-stueckzahl-nicht-bekannt.php
DESCRIPTION:Ohne Schütte 
UID:myauktion-7644-2437096
BEGIN:VALARM
ACTION:DISPLAY
DESCRIPTION:Ohne Schütte 
TRIGGER:-PT10M
END:VALARM
END:VEVENT
END:VCALENDAR