BEGIN:VCALENDAR
VERSION:2.0
PRODID:-//Goldgrube//myauktion.com//AT
CALSCALE:GREGORIAN
BEGIN:VEVENT
DTSTART:20260502T165700
DTEND:20260502T165730
LOCATION:Gewerbepark 13, 8562 Mooskirchen
DTSTAMP:20260420T235724
SUMMARY:MyAuktion: Ablauf Artikel Nr. 952386 Posten Rohrschellen für Schildbefestigung Stückzahl nicht Bekannt 
URL;VALUE=URI:https://www.myauktion.com/versteigerung7644-position2437097-posten-rohrschellen-fuer-schildbefestigung-stueckzahl-nicht-bekannt.php
DESCRIPTION:Ohne Schütte
UID:myauktion-7644-2437097
BEGIN:VALARM
ACTION:DISPLAY
DESCRIPTION:Ohne Schütte
TRIGGER:-PT10M
END:VALARM
END:VEVENT
END:VCALENDAR