BEGIN:VCALENDAR
VERSION:2.0
PRODID:-//Goldgrube//myauktion.com//AT
CALSCALE:GREGORIAN
BEGIN:VEVENT
DTSTART:20260503T113400
DTEND:20260503T113430
LOCATION:Gewerbepark 13, 8562 Mooskirchen
DTSTAMP:20260419T154433
SUMMARY:MyAuktion: Ablauf Artikel Nr. 956129 Diverse Auto Zubehör 
URL;VALUE=URI:https://www.myauktion.com/versteigerung7639-position2437430-diverse-auto-zubehoer.php
DESCRIPTION:Keine weiteren Daten ersichtlich
UID:myauktion-7639-2437430
BEGIN:VALARM
ACTION:DISPLAY
DESCRIPTION:Keine weiteren Daten ersichtlich
TRIGGER:-PT10M
END:VALARM
END:VEVENT
END:VCALENDAR