BEGIN:VCALENDAR
VERSION:2.0
PRODID:-//Goldgrube//myauktion.com//AT
CALSCALE:GREGORIAN
BEGIN:VEVENT
DTSTART:20260503T113500
DTEND:20260503T113530
LOCATION:Gewerbepark 13, 8562 Mooskirchen
DTSTAMP:20260419T154432
SUMMARY:MyAuktion: Ablauf Artikel Nr. 956130 Beocord 1500 de Luxe Tonbandgerät für Bastler 
URL;VALUE=URI:https://www.myauktion.com/versteigerung7639-position2437432-beocord-1500-de-luxe-tonbandgeraet-fuer-bastler.php
DESCRIPTION:Gebraucht, verschmutzt, beschädigt 
UID:myauktion-7639-2437432
BEGIN:VALARM
ACTION:DISPLAY
DESCRIPTION:Gebraucht, verschmutzt, beschädigt 
TRIGGER:-PT10M
END:VALARM
END:VEVENT
END:VCALENDAR