BEGIN:VCALENDAR
VERSION:2.0
PRODID:-//Goldgrube//myauktion.com//AT
CALSCALE:GREGORIAN
BEGIN:VEVENT
DTSTART:20260503T113600
DTEND:20260503T113630
LOCATION:Gewerbepark 13, 8562 Mooskirchen
DTSTAMP:20260419T154429
SUMMARY:MyAuktion: Ablauf Artikel Nr. 956131 Ikea Radhusvin 90x200cm 905.583.72 
URL;VALUE=URI:https://www.myauktion.com/versteigerung7639-position2437436-ikea-radhusvin-90x200cm-90558372.php
DESCRIPTION:Gebraucht 
UID:myauktion-7639-2437436
BEGIN:VALARM
ACTION:DISPLAY
DESCRIPTION:Gebraucht 
TRIGGER:-PT10M
END:VALARM
END:VEVENT
END:VCALENDAR