BEGIN:VCALENDAR
VERSION:2.0
PRODID:-//Goldgrube//myauktion.com//AT
CALSCALE:GREGORIAN
BEGIN:VEVENT
DTSTART:20260503T123400
DTEND:20260503T123430
LOCATION:Gewerbepark 13, 8562 Mooskirchen
DTSTAMP:20260419T192406
SUMMARY:MyAuktion: Ablauf Artikel Nr. 956318 Gizeh Fine 100 20 Heftchen mit je 100 Blatt 
URL;VALUE=URI:https://www.myauktion.com/versteigerung7639-position2437441-gizeh-fine-100-20-heftchen-mit-je-100-blatt.php
DESCRIPTION:
UID:myauktion-7639-2437441
BEGIN:VALARM
ACTION:DISPLAY
DESCRIPTION:
TRIGGER:-PT10M
END:VALARM
END:VEVENT
END:VCALENDAR