BEGIN:VCALENDAR
VERSION:2.0
PRODID:-//Goldgrube//myauktion.com//AT
CALSCALE:GREGORIAN
BEGIN:VEVENT
DTSTART:20260503T100700
DTEND:20260503T100730
LOCATION:Gewerbepark 13, 8562 Mooskirchen
DTSTAMP:20260419T154442
SUMMARY:MyAuktion: Ablauf Artikel Nr. 955554 IKEA Komplement 30x35cm 402.779.92 Schrank Einlage
URL;VALUE=URI:https://www.myauktion.com/versteigerung7639-position2437442-ikea-komplement-30x35cm-40277992-schrank-einlage.php
DESCRIPTION:
UID:myauktion-7639-2437442
BEGIN:VALARM
ACTION:DISPLAY
DESCRIPTION:
TRIGGER:-PT10M
END:VALARM
END:VEVENT
END:VCALENDAR