BEGIN:VCALENDAR
VERSION:2.0
PRODID:-//Goldgrube//myauktion.com//AT
CALSCALE:GREGORIAN
BEGIN:VEVENT
DTSTART:20260503T113800
DTEND:20260503T113830
LOCATION:Gewerbepark 13, 8562 Mooskirchen
DTSTAMP:20260419T154443
SUMMARY:MyAuktion: Ablauf Artikel Nr. 956133 Steris Einweg-Biopsiezange 10Stk 
URL;VALUE=URI:https://www.myauktion.com/versteigerung7639-position2437443-steris-einweg-biopsiezange-10stk.php
DESCRIPTION:MHD 30.06.2027 
UID:myauktion-7639-2437443
BEGIN:VALARM
ACTION:DISPLAY
DESCRIPTION:MHD 30.06.2027 
TRIGGER:-PT10M
END:VALARM
END:VEVENT
END:VCALENDAR