BEGIN:VCALENDAR
VERSION:2.0
PRODID:-//Goldgrube//myauktion.com//AT
CALSCALE:GREGORIAN
BEGIN:VEVENT
DTSTART:20260503T114000
DTEND:20260503T114030
LOCATION:Gewerbepark 13, 8562 Mooskirchen
DTSTAMP:20260419T154437
SUMMARY:MyAuktion: Ablauf Artikel Nr. 956134 Steris Biopsiezange 10Stk EN10159A 
URL;VALUE=URI:https://www.myauktion.com/versteigerung7639-position2437445-steris-biopsiezange-10stk-en10159a.php
DESCRIPTION:MHD 25.02.2027 
UID:myauktion-7639-2437445
BEGIN:VALARM
ACTION:DISPLAY
DESCRIPTION:MHD 25.02.2027 
TRIGGER:-PT10M
END:VALARM
END:VEVENT
END:VCALENDAR