BEGIN:VCALENDAR
VERSION:2.0
PRODID:-//Goldgrube//myauktion.com//AT
CALSCALE:GREGORIAN
BEGIN:VEVENT
DTSTART:20260503T114500
DTEND:20260503T114530
LOCATION:Gewerbepark 13, 8562 Mooskirchen
DTSTAMP:20260419T154445
SUMMARY:MyAuktion: Ablauf Artikel Nr. 956136 Steris 3tlg. Ventilset(Absaug-, Luft/Wasser- und Biopsieventile) 50Stk
URL;VALUE=URI:https://www.myauktion.com/versteigerung7639-position2437448-steris-3tlg-ventilsetabsaug--luft-wasser-und-biopsieventile-50stk.php
DESCRIPTION:MHD 19.02.2028 
UID:myauktion-7639-2437448
BEGIN:VALARM
ACTION:DISPLAY
DESCRIPTION:MHD 19.02.2028 
TRIGGER:-PT10M
END:VALARM
END:VEVENT
END:VCALENDAR