BEGIN:VCALENDAR
VERSION:2.0
PRODID:-//Goldgrube//myauktion.com//AT
CALSCALE:GREGORIAN
BEGIN:VEVENT
DTSTART:20260503T114700
DTEND:20260503T114730
LOCATION:Gewerbepark 13, 8562 Mooskirchen
DTSTAMP:20260419T154446
SUMMARY:MyAuktion: Ablauf Artikel Nr. 956137 Ikea Nissafors 405.858.01 
URL;VALUE=URI:https://www.myauktion.com/versteigerung7639-position2437451-ikea-nissafors-40585801.php
DESCRIPTION:
UID:myauktion-7639-2437451
BEGIN:VALARM
ACTION:DISPLAY
DESCRIPTION:
TRIGGER:-PT10M
END:VALARM
END:VEVENT
END:VCALENDAR