BEGIN:VCALENDAR
VERSION:2.0
PRODID:-//Goldgrube//myauktion.com//AT
CALSCALE:GREGORIAN
BEGIN:VEVENT
DTSTART:20260503T123800
DTEND:20260503T123830
LOCATION:Gewerbepark 13, 8562 Mooskirchen
DTSTAMP:20260419T192401
SUMMARY:MyAuktion: Ablauf Artikel Nr. 956321 Bosch E-Bike Zubehör 
URL;VALUE=URI:https://www.myauktion.com/versteigerung7639-position2437452-bosch-e-bike-zubehoer.php
DESCRIPTION:<div>Gebraucht ,Funktion nicht geprüft</div>
UID:myauktion-7639-2437452
BEGIN:VALARM
ACTION:DISPLAY
DESCRIPTION:<div>Gebraucht ,Funktion nicht geprüft</div>
TRIGGER:-PT10M
END:VALARM
END:VEVENT
END:VCALENDAR