BEGIN:VCALENDAR
VERSION:2.0
PRODID:-//Goldgrube//myauktion.com//AT
CALSCALE:GREGORIAN
BEGIN:VEVENT
DTSTART:20260503T101100
DTEND:20260503T101130
LOCATION:Gewerbepark 13, 8562 Mooskirchen
DTSTAMP:20260419T151133
SUMMARY:MyAuktion: Ablauf Artikel Nr. 955556 Master Tool Schlagbormaschine SB600 Serien Nummer 01-15000/00
URL;VALUE=URI:https://www.myauktion.com/versteigerung7639-position2437453-master-tool-schlagbormaschine-sb600-serien-nummer-01-15000-00.php
DESCRIPTION:<div>Gebraucht</div>
UID:myauktion-7639-2437453
BEGIN:VALARM
ACTION:DISPLAY
DESCRIPTION:<div>Gebraucht</div>
TRIGGER:-PT10M
END:VALARM
END:VEVENT
END:VCALENDAR