BEGIN:VCALENDAR
VERSION:2.0
PRODID:-//Goldgrube//myauktion.com//AT
CALSCALE:GREGORIAN
BEGIN:VEVENT
DTSTART:20260503T114800
DTEND:20260503T114830
LOCATION:Gewerbepark 13, 8562 Mooskirchen
DTSTAMP:20260419T154439
SUMMARY:MyAuktion: Ablauf Artikel Nr. 956138 Geprägter Steppstoff Anthrazit 150cm 8m 
URL;VALUE=URI:https://www.myauktion.com/versteigerung7639-position2437454-gepraegter-steppstoff-anthrazit-150cm-8m.php
DESCRIPTION:
UID:myauktion-7639-2437454
BEGIN:VALARM
ACTION:DISPLAY
DESCRIPTION:
TRIGGER:-PT10M
END:VALARM
END:VEVENT
END:VCALENDAR