BEGIN:VCALENDAR
VERSION:2.0
PRODID:-//Goldgrube//myauktion.com//AT
CALSCALE:GREGORIAN
BEGIN:VEVENT
DTSTART:20260503T114900
DTEND:20260503T114930
LOCATION:Gewerbepark 13, 8562 Mooskirchen
DTSTAMP:20260419T154441
SUMMARY:MyAuktion: Ablauf Artikel Nr. 956139 Stoff schilfgrün 150cm 4m 
URL;VALUE=URI:https://www.myauktion.com/versteigerung7639-position2437457-stoff-schilfgruen-150cm-4m.php
DESCRIPTION:
UID:myauktion-7639-2437457
BEGIN:VALARM
ACTION:DISPLAY
DESCRIPTION:
TRIGGER:-PT10M
END:VALARM
END:VEVENT
END:VCALENDAR