BEGIN:VCALENDAR
VERSION:2.0
PRODID:-//Goldgrube//myauktion.com//AT
CALSCALE:GREGORIAN
BEGIN:VEVENT
DTSTART:20260503T115100
DTEND:20260503T115130
LOCATION:Gewerbepark 13, 8562 Mooskirchen
DTSTAMP:20260419T154445
SUMMARY:MyAuktion: Ablauf Artikel Nr. 956141 Stoff rosa 150cm 8m 
URL;VALUE=URI:https://www.myauktion.com/versteigerung7639-position2437459-stoff-rosa-150cm-8m.php
DESCRIPTION:
UID:myauktion-7639-2437459
BEGIN:VALARM
ACTION:DISPLAY
DESCRIPTION:
TRIGGER:-PT10M
END:VALARM
END:VEVENT
END:VCALENDAR