BEGIN:VCALENDAR
VERSION:2.0
PRODID:-//Goldgrube//myauktion.com//AT
CALSCALE:GREGORIAN
BEGIN:VEVENT
DTSTART:20260503T101200
DTEND:20260503T101230
LOCATION:Gewerbepark 13, 8562 Mooskirchen
DTSTAMP:20260419T154445
SUMMARY:MyAuktion: Ablauf Artikel Nr. 955557 KTM Bosch Powerpack 500 
URL;VALUE=URI:https://www.myauktion.com/versteigerung7639-position2437460-ktm-bosch-powerpack-500.php
DESCRIPTION:Gebraucht 
UID:myauktion-7639-2437460
BEGIN:VALARM
ACTION:DISPLAY
DESCRIPTION:Gebraucht 
TRIGGER:-PT10M
END:VALARM
END:VEVENT
END:VCALENDAR