BEGIN:VCALENDAR
VERSION:2.0
PRODID:-//Goldgrube//myauktion.com//AT
CALSCALE:GREGORIAN
BEGIN:VEVENT
DTSTART:20260503T090300
DTEND:20260503T090330
LOCATION:Gewerbepark 13, 8562 Mooskirchen
DTSTAMP:20260419T142656
SUMMARY:MyAuktion: Ablauf Artikel Nr. 955285 Natasha Asteroid 241100164 Akkustik Gitarre
URL;VALUE=URI:https://www.myauktion.com/versteigerung7639-position2437461-natasha-asteroid-241100164-akkustik-gitarre.php
DESCRIPTION:Inklusive Tasche
UID:myauktion-7639-2437461
BEGIN:VALARM
ACTION:DISPLAY
DESCRIPTION:Inklusive Tasche
TRIGGER:-PT10M
END:VALARM
END:VEVENT
END:VCALENDAR