BEGIN:VCALENDAR
VERSION:2.0
PRODID:-//Goldgrube//myauktion.com//AT
CALSCALE:GREGORIAN
BEGIN:VEVENT
DTSTART:20260503T124000
DTEND:20260503T124030
LOCATION:Gewerbepark 13, 8562 Mooskirchen
DTSTAMP:20260419T192402
SUMMARY:MyAuktion: Ablauf Artikel Nr. 956323 Fruchtschalen aus Papier 
URL;VALUE=URI:https://www.myauktion.com/versteigerung7639-position2437462-fruchtschalen-aus-papier.php
DESCRIPTION:ausca. 216stk 
UID:myauktion-7639-2437462
BEGIN:VALARM
ACTION:DISPLAY
DESCRIPTION:ausca. 216stk 
TRIGGER:-PT10M
END:VALARM
END:VEVENT
END:VCALENDAR