BEGIN:VCALENDAR
VERSION:2.0
PRODID:-//Goldgrube//myauktion.com//AT
CALSCALE:GREGORIAN
BEGIN:VEVENT
DTSTART:20260503T101300
DTEND:20260503T101330
LOCATION:Gewerbepark 13, 8562 Mooskirchen
DTSTAMP:20260419T195657
SUMMARY:MyAuktion: Ablauf Artikel Nr. 955558 King Craft Verschiedene Schlagbohrer Stahl, Beton und Holz 
URL;VALUE=URI:https://www.myauktion.com/versteigerung7639-position2437463-king-craft-verschiedene-schlagbohrer-stahl-beton-und-holz.php
DESCRIPTION:Gebraucht 
UID:myauktion-7639-2437463
BEGIN:VALARM
ACTION:DISPLAY
DESCRIPTION:Gebraucht 
TRIGGER:-PT10M
END:VALARM
END:VEVENT
END:VCALENDAR