BEGIN:VCALENDAR
VERSION:2.0
PRODID:-//Goldgrube//myauktion.com//AT
CALSCALE:GREGORIAN
BEGIN:VEVENT
DTSTART:20260503T115300
DTEND:20260503T115330
LOCATION:Gewerbepark 13, 8562 Mooskirchen
DTSTAMP:20260419T192353
SUMMARY:MyAuktion: Ablauf Artikel Nr. 956143 Lotuscrafts Yogarolle ca. 60cm taupe
URL;VALUE=URI:https://www.myauktion.com/versteigerung7639-position2437465-lotuscrafts-yogarolle-ca-60cm-taupe.php
DESCRIPTION:
UID:myauktion-7639-2437465
BEGIN:VALARM
ACTION:DISPLAY
DESCRIPTION:
TRIGGER:-PT10M
END:VALARM
END:VEVENT
END:VCALENDAR