BEGIN:VCALENDAR
VERSION:2.0
PRODID:-//Goldgrube//myauktion.com//AT
CALSCALE:GREGORIAN
BEGIN:VEVENT
DTSTART:20260503T124100
DTEND:20260503T124130
LOCATION:Gewerbepark 13, 8562 Mooskirchen
DTSTAMP:20260419T162726
SUMMARY:MyAuktion: Ablauf Artikel Nr. 956324 Quooker  Cube  CB CDUE44A00345, Appendage Set CB DE 51.165.05
URL;VALUE=URI:https://www.myauktion.com/versteigerung7639-position2437466-quooker-cube-cb-cdue44a00345-appendage-set-cb-de-5116505.php
DESCRIPTION:
UID:myauktion-7639-2437466
BEGIN:VALARM
ACTION:DISPLAY
DESCRIPTION:
TRIGGER:-PT10M
END:VALARM
END:VEVENT
END:VCALENDAR