BEGIN:VCALENDAR
VERSION:2.0
PRODID:-//Goldgrube//myauktion.com//AT
CALSCALE:GREGORIAN
BEGIN:VEVENT
DTSTART:20260503T090400
DTEND:20260503T090430
LOCATION:Gewerbepark 13, 8562 Mooskirchen
DTSTAMP:20260419T142654
SUMMARY:MyAuktion: Ablauf Artikel Nr. 955286 Träumeland Kinder Matratze 
URL;VALUE=URI:https://www.myauktion.com/versteigerung7639-position2437469-traeumeland-kinder-matratze.php
DESCRIPTION:120×62cm
UID:myauktion-7639-2437469
BEGIN:VALARM
ACTION:DISPLAY
DESCRIPTION:120×62cm
TRIGGER:-PT10M
END:VALARM
END:VEVENT
END:VCALENDAR