BEGIN:VCALENDAR
VERSION:2.0
PRODID:-//Goldgrube//myauktion.com//AT
CALSCALE:GREGORIAN
BEGIN:VEVENT
DTSTART:20260503T115600
DTEND:20260503T115630
LOCATION:Gewerbepark 13, 8562 Mooskirchen
DTSTAMP:20260419T192400
SUMMARY:MyAuktion: Ablauf Artikel Nr. 956146 Lotuscrafts Yoga Gurt 250x3,8cm 
URL;VALUE=URI:https://www.myauktion.com/versteigerung7639-position2437470-lotuscrafts-yoga-gurt-250x38cm.php
DESCRIPTION:
UID:myauktion-7639-2437470
BEGIN:VALARM
ACTION:DISPLAY
DESCRIPTION:
TRIGGER:-PT10M
END:VALARM
END:VEVENT
END:VCALENDAR