BEGIN:VCALENDAR
VERSION:2.0
PRODID:-//Goldgrube//myauktion.com//AT
CALSCALE:GREGORIAN
BEGIN:VEVENT
DTSTART:20260503T124300
DTEND:20260503T124330
LOCATION:Gewerbepark 13, 8562 Mooskirchen
DTSTAMP:20260419T154439
SUMMARY:MyAuktion: Ablauf Artikel Nr. 956325 Lotuscrafts Zafu Meditationskissen 
URL;VALUE=URI:https://www.myauktion.com/versteigerung7639-position2437471-lotuscrafts-zafu-meditationskissen.php
DESCRIPTION:Marine blue 
UID:myauktion-7639-2437471
BEGIN:VALARM
ACTION:DISPLAY
DESCRIPTION:Marine blue 
TRIGGER:-PT10M
END:VALARM
END:VEVENT
END:VCALENDAR