BEGIN:VCALENDAR
VERSION:2.0
PRODID:-//Goldgrube//myauktion.com//AT
CALSCALE:GREGORIAN
BEGIN:VEVENT
DTSTART:20260503T124400
DTEND:20260503T124430
LOCATION:Gewerbepark 13, 8562 Mooskirchen
DTSTAMP:20260419T192403
SUMMARY:MyAuktion: Ablauf Artikel Nr. 956326 Lotuscrafts Zafu Meditationskissen 
URL;VALUE=URI:https://www.myauktion.com/versteigerung7639-position2437473-lotuscrafts-zafu-meditationskissen.php
DESCRIPTION:Light taupe 
UID:myauktion-7639-2437473
BEGIN:VALARM
ACTION:DISPLAY
DESCRIPTION:Light taupe 
TRIGGER:-PT10M
END:VALARM
END:VEVENT
END:VCALENDAR