BEGIN:VCALENDAR
VERSION:2.0
PRODID:-//Goldgrube//myauktion.com//AT
CALSCALE:GREGORIAN
BEGIN:VEVENT
DTSTART:20260503T090500
DTEND:20260503T090530
LOCATION:Gewerbepark 13, 8562 Mooskirchen
DTSTAMP:20260419T142657
SUMMARY:MyAuktion: Ablauf Artikel Nr. 955287 Stoff-Stuhl ca 50cm Sitzhöhe
URL;VALUE=URI:https://www.myauktion.com/versteigerung7639-position2437480-stoff-stuhl-ca-50cm-sitzhoehe.php
DESCRIPTION:
UID:myauktion-7639-2437480
BEGIN:VALARM
ACTION:DISPLAY
DESCRIPTION:
TRIGGER:-PT10M
END:VALARM
END:VEVENT
END:VCALENDAR