BEGIN:VCALENDAR
VERSION:2.0
PRODID:-//Goldgrube//myauktion.com//AT
CALSCALE:GREGORIAN
BEGIN:VEVENT
DTSTART:20260503T102000
DTEND:20260503T102030
LOCATION:Gewerbepark 13, 8562 Mooskirchen
DTSTAMP:20260419T142657
SUMMARY:MyAuktion: Ablauf Artikel Nr. 955565 Sweet Protection Adapted Fit 2V1 Mips Größe: XS/S Lilla 
URL;VALUE=URI:https://www.myauktion.com/versteigerung7639-position2437485-sweet-protection-adapted-fit-2v1-mips-groesse-xs-s-lilla.php
DESCRIPTION:
UID:myauktion-7639-2437485
BEGIN:VALARM
ACTION:DISPLAY
DESCRIPTION:
TRIGGER:-PT10M
END:VALARM
END:VEVENT
END:VCALENDAR