BEGIN:VCALENDAR
VERSION:2.0
PRODID:-//Goldgrube//myauktion.com//AT
CALSCALE:GREGORIAN
BEGIN:VEVENT
DTSTART:20260503T120100
DTEND:20260503T120130
LOCATION:Gewerbepark 13, 8562 Mooskirchen
DTSTAMP:20260419T220153
SUMMARY:MyAuktion: Ablauf Artikel Nr. 956151 Hot Water Boiler 79070074 
URL;VALUE=URI:https://www.myauktion.com/versteigerung7639-position2437486-hot-water-boiler-79070074.php
DESCRIPTION:
UID:myauktion-7639-2437486
BEGIN:VALARM
ACTION:DISPLAY
DESCRIPTION:
TRIGGER:-PT10M
END:VALARM
END:VEVENT
END:VCALENDAR