BEGIN:VCALENDAR
VERSION:2.0
PRODID:-//Goldgrube//myauktion.com//AT
CALSCALE:GREGORIAN
BEGIN:VEVENT
DTSTART:20260503T090600
DTEND:20260503T090630
LOCATION:Gewerbepark 13, 8562 Mooskirchen
DTSTAMP:20260419T220154
SUMMARY:MyAuktion: Ablauf Artikel Nr. 955288 Gebetsteppich
URL;VALUE=URI:https://www.myauktion.com/versteigerung7639-position2437488-gebetsteppich.php
DESCRIPTION:Ca 120×80, Gebraucht
UID:myauktion-7639-2437488
BEGIN:VALARM
ACTION:DISPLAY
DESCRIPTION:Ca 120×80, Gebraucht
TRIGGER:-PT10M
END:VALARM
END:VEVENT
END:VCALENDAR