BEGIN:VCALENDAR
VERSION:2.0
PRODID:-//Goldgrube//myauktion.com//AT
CALSCALE:GREGORIAN
BEGIN:VEVENT
DTSTART:20260503T120200
DTEND:20260503T120230
LOCATION:Gewerbepark 13, 8562 Mooskirchen
DTSTAMP:20260419T192406
SUMMARY:MyAuktion: Ablauf Artikel Nr. 956152 Salter Labs Nasenkanüllen / Atemgasbefeuchter
URL;VALUE=URI:https://www.myauktion.com/versteigerung7639-position2437489-salter-labs-nasenkanuellen---atemgasbefeuchter.php
DESCRIPTION:MHD 13.01.2030 
UID:myauktion-7639-2437489
BEGIN:VALARM
ACTION:DISPLAY
DESCRIPTION:MHD 13.01.2030 
TRIGGER:-PT10M
END:VALARM
END:VEVENT
END:VCALENDAR