BEGIN:VCALENDAR
VERSION:2.0
PRODID:-//Goldgrube//myauktion.com//AT
CALSCALE:GREGORIAN
BEGIN:VEVENT
DTSTART:20260503T125100
DTEND:20260503T125130
LOCATION:Gewerbepark 13, 8562 Mooskirchen
DTSTAMP:20260419T192406
SUMMARY:MyAuktion: Ablauf Artikel Nr. 956329 Bayer Chic Kombi Fides 3in1 645 19 
URL;VALUE=URI:https://www.myauktion.com/versteigerung7639-position2437490-bayer-chic-kombi-fides-3in1-645-19.php
DESCRIPTION:
UID:myauktion-7639-2437490
BEGIN:VALARM
ACTION:DISPLAY
DESCRIPTION:
TRIGGER:-PT10M
END:VALARM
END:VEVENT
END:VCALENDAR