BEGIN:VCALENDAR
VERSION:2.0
PRODID:-//Goldgrube//myauktion.com//AT
CALSCALE:GREGORIAN
BEGIN:VEVENT
DTSTART:20260503T120300
DTEND:20260503T120330
LOCATION:Gewerbepark 13, 8562 Mooskirchen
DTSTAMP:20260419T154443
SUMMARY:MyAuktion: Ablauf Artikel Nr. 956153 Copy Paper A4 5x500Stk 
URL;VALUE=URI:https://www.myauktion.com/versteigerung7639-position2437491-copy-paper-a4-5x500stk.php
DESCRIPTION:
UID:myauktion-7639-2437491
BEGIN:VALARM
ACTION:DISPLAY
DESCRIPTION:
TRIGGER:-PT10M
END:VALARM
END:VEVENT
END:VCALENDAR