BEGIN:VCALENDAR
VERSION:2.0
PRODID:-//Goldgrube//myauktion.com//AT
CALSCALE:GREGORIAN
BEGIN:VEVENT
DTSTART:20260503T120500
DTEND:20260503T120530
LOCATION:Gewerbepark 13, 8562 Mooskirchen
DTSTAMP:20260419T192403
SUMMARY:MyAuktion: Ablauf Artikel Nr. 956154 Lego Architecture Neuschwanstein Castle 21063 
URL;VALUE=URI:https://www.myauktion.com/versteigerung7639-position2437494-lego-architecture-neuschwanstein-castle-21063.php
DESCRIPTION:Verpackung beschädigt 
UID:myauktion-7639-2437494
BEGIN:VALARM
ACTION:DISPLAY
DESCRIPTION:Verpackung beschädigt 
TRIGGER:-PT10M
END:VALARM
END:VEVENT
END:VCALENDAR