BEGIN:VCALENDAR
VERSION:2.0
PRODID:-//Goldgrube//myauktion.com//AT
CALSCALE:GREGORIAN
BEGIN:VEVENT
DTSTART:20260503T090700
DTEND:20260503T090730
LOCATION:Gewerbepark 13, 8562 Mooskirchen
DTSTAMP:20260419T154439
SUMMARY:MyAuktion: Ablauf Artikel Nr. 955289 Basketballkorb 
URL;VALUE=URI:https://www.myauktion.com/versteigerung7639-position2437497-basketballkorb.php
DESCRIPTION:Gebraucht, Maße Unbekannt 
UID:myauktion-7639-2437497
BEGIN:VALARM
ACTION:DISPLAY
DESCRIPTION:Gebraucht, Maße Unbekannt 
TRIGGER:-PT10M
END:VALARM
END:VEVENT
END:VCALENDAR