BEGIN:VCALENDAR
VERSION:2.0
PRODID:-//Goldgrube//myauktion.com//AT
CALSCALE:GREGORIAN
BEGIN:VEVENT
DTSTART:20260503T120700
DTEND:20260503T120730
LOCATION:Gewerbepark 13, 8562 Mooskirchen
DTSTAMP:20260419T192402
SUMMARY:MyAuktion: Ablauf Artikel Nr. 956156 LanNatura Smart System with Milk Rinsing Function white 300240 
URL;VALUE=URI:https://www.myauktion.com/versteigerung7639-position2437498-lannatura-smart-system-with-milk-rinsing-function-white-300240.php
DESCRIPTION:
UID:myauktion-7639-2437498
BEGIN:VALARM
ACTION:DISPLAY
DESCRIPTION:
TRIGGER:-PT10M
END:VALARM
END:VEVENT
END:VCALENDAR