BEGIN:VCALENDAR
VERSION:2.0
PRODID:-//Goldgrube//myauktion.com//AT
CALSCALE:GREGORIAN
BEGIN:VEVENT
DTSTART:20260503T125400
DTEND:20260503T125430
LOCATION:Gewerbepark 13, 8562 Mooskirchen
DTSTAMP:20260419T142656
SUMMARY:MyAuktion: Ablauf Artikel Nr. 956332 Cyber Gold Balios S Lux Cot Lux Aton B2 i -Size Travel System  
URL;VALUE=URI:https://www.myauktion.com/versteigerung7639-position2437502-cyber-gold-balios-s-lux-cot-lux-aton-b2-i-size-travel-system.php
DESCRIPTION:
UID:myauktion-7639-2437502
BEGIN:VALARM
ACTION:DISPLAY
DESCRIPTION:
TRIGGER:-PT10M
END:VALARM
END:VEVENT
END:VCALENDAR