BEGIN:VCALENDAR
VERSION:2.0
PRODID:-//Goldgrube//myauktion.com//AT
CALSCALE:GREGORIAN
BEGIN:VEVENT
DTSTART:20260503T121200
DTEND:20260503T121230
LOCATION:Gewerbepark 13, 8562 Mooskirchen
DTSTAMP:20260419T192406
SUMMARY:MyAuktion: Ablauf Artikel Nr. 956159 Lego Porsche 10295 18+ 1458Pcs 
URL;VALUE=URI:https://www.myauktion.com/versteigerung7639-position2437503-lego-porsche-10295-18-1458pcs.php
DESCRIPTION:Verpackung beschädigt 
UID:myauktion-7639-2437503
BEGIN:VALARM
ACTION:DISPLAY
DESCRIPTION:Verpackung beschädigt 
TRIGGER:-PT10M
END:VALARM
END:VEVENT
END:VCALENDAR