BEGIN:VCALENDAR
VERSION:2.0
PRODID:-//Goldgrube//myauktion.com//AT
CALSCALE:GREGORIAN
BEGIN:VEVENT
DTSTART:20260503T121300
DTEND:20260503T121330
LOCATION:Gewerbepark 13, 8562 Mooskirchen
DTSTAMP:20260419T192405
SUMMARY:MyAuktion: Ablauf Artikel Nr. 956160 Playmobil Novelmore 71642 4-10 256Pcs 
URL;VALUE=URI:https://www.myauktion.com/versteigerung7639-position2437504-playmobil-novelmore-71642-4-10-256pcs.php
DESCRIPTION:
UID:myauktion-7639-2437504
BEGIN:VALARM
ACTION:DISPLAY
DESCRIPTION:
TRIGGER:-PT10M
END:VALARM
END:VEVENT
END:VCALENDAR