BEGIN:VCALENDAR
VERSION:2.0
PRODID:-//Goldgrube//myauktion.com//AT
CALSCALE:GREGORIAN
BEGIN:VEVENT
DTSTART:20260503T125500
DTEND:20260503T125530
LOCATION:Gewerbepark 13, 8562 Mooskirchen
DTSTAMP:20260419T151133
SUMMARY:MyAuktion: Ablauf Artikel Nr. 956333 V5DN 395SMO R3 Kit Barre Led Per 40 com Q469894 
URL;VALUE=URI:https://www.myauktion.com/versteigerung7639-position2437505-v5dn-395smo-r3-kit-barre-led-per-40-com-q469894.php
DESCRIPTION:
UID:myauktion-7639-2437505
BEGIN:VALARM
ACTION:DISPLAY
DESCRIPTION:
TRIGGER:-PT10M
END:VALARM
END:VEVENT
END:VCALENDAR