BEGIN:VCALENDAR
VERSION:2.0
PRODID:-//Goldgrube//myauktion.com//AT
CALSCALE:GREGORIAN
BEGIN:VEVENT
DTSTART:20260503T090900
DTEND:20260503T090930
LOCATION:Gewerbepark 13, 8562 Mooskirchen
DTSTAMP:20260419T142655
SUMMARY:MyAuktion: Ablauf Artikel Nr. 955290 bioDeco Bioethanol Duftrichtung Romantisch
URL;VALUE=URI:https://www.myauktion.com/versteigerung7639-position2437507-biodeco-bioethanol-duftrichtung-romantisch.php
DESCRIPTION:Je 1L
UID:myauktion-7639-2437507
BEGIN:VALARM
ACTION:DISPLAY
DESCRIPTION:Je 1L
TRIGGER:-PT10M
END:VALARM
END:VEVENT
END:VCALENDAR