BEGIN:VCALENDAR
VERSION:2.0
PRODID:-//Goldgrube//myauktion.com//AT
CALSCALE:GREGORIAN
BEGIN:VEVENT
DTSTART:20260503T125700
DTEND:20260503T125730
LOCATION:Gewerbepark 13, 8562 Mooskirchen
DTSTAMP:20260419T151133
SUMMARY:MyAuktion: Ablauf Artikel Nr. 956335 Espresso L&#39;OR cups 70ml 6stk 
URL;VALUE=URI:https://www.myauktion.com/versteigerung7639-position2437511-espresso-l-39or-cups-70ml-6stk.php
DESCRIPTION:
UID:myauktion-7639-2437511
BEGIN:VALARM
ACTION:DISPLAY
DESCRIPTION:
TRIGGER:-PT10M
END:VALARM
END:VEVENT
END:VCALENDAR