BEGIN:VCALENDAR
VERSION:2.0
PRODID:-//Goldgrube//myauktion.com//AT
CALSCALE:GREGORIAN
BEGIN:VEVENT
DTSTART:20260503T102300
DTEND:20260503T102330
LOCATION:Gewerbepark 13, 8562 Mooskirchen
DTSTAMP:20260419T154436
SUMMARY:MyAuktion: Ablauf Artikel Nr. 955568 Stuhl ca 40x40cm Holz Beine
URL;VALUE=URI:https://www.myauktion.com/versteigerung7639-position2437512-stuhl-ca-40x40cm-holz-beine.php
DESCRIPTION:Leicht verschmutzt 
UID:myauktion-7639-2437512
BEGIN:VALARM
ACTION:DISPLAY
DESCRIPTION:Leicht verschmutzt 
TRIGGER:-PT10M
END:VALARM
END:VEVENT
END:VCALENDAR