BEGIN:VCALENDAR
VERSION:2.0
PRODID:-//Goldgrube//myauktion.com//AT
CALSCALE:GREGORIAN
BEGIN:VEVENT
DTSTART:20260503T091300
DTEND:20260503T091330
LOCATION:Gewerbepark 13, 8562 Mooskirchen
DTSTAMP:20260419T142652
SUMMARY:MyAuktion: Ablauf Artikel Nr. 955292 bioDeco Bioethanol Duftrichtung Glühwein
URL;VALUE=URI:https://www.myauktion.com/versteigerung7639-position2437513-biodeco-bioethanol-duftrichtung-gluehwein.php
DESCRIPTION:Je 1L
UID:myauktion-7639-2437513
BEGIN:VALARM
ACTION:DISPLAY
DESCRIPTION:Je 1L
TRIGGER:-PT10M
END:VALARM
END:VEVENT
END:VCALENDAR