BEGIN:VCALENDAR
VERSION:2.0
PRODID:-//Goldgrube//myauktion.com//AT
CALSCALE:GREGORIAN
BEGIN:VEVENT
DTSTART:20260503T091400
DTEND:20260503T091430
LOCATION:Gewerbepark 13, 8562 Mooskirchen
DTSTAMP:20260419T221409
SUMMARY:MyAuktion: Ablauf Artikel Nr. 955293 bioDeco Bioethanol Duftrichtung süße Früchte
URL;VALUE=URI:https://www.myauktion.com/versteigerung7639-position2437514-biodeco-bioethanol-duftrichtung-suesse-fruechte.php
DESCRIPTION:Je 1L
UID:myauktion-7639-2437514
BEGIN:VALARM
ACTION:DISPLAY
DESCRIPTION:Je 1L
TRIGGER:-PT10M
END:VALARM
END:VEVENT
END:VCALENDAR