BEGIN:VCALENDAR
VERSION:2.0
PRODID:-//Goldgrube//myauktion.com//AT
CALSCALE:GREGORIAN
BEGIN:VEVENT
DTSTART:20260503T091700
DTEND:20260503T091730
LOCATION:Gewerbepark 13, 8562 Mooskirchen
DTSTAMP:20260419T142652
SUMMARY:MyAuktion: Ablauf Artikel Nr. 955294 bioDeco Bioethanol Duftrichtung Tannenzapfen
URL;VALUE=URI:https://www.myauktion.com/versteigerung7639-position2437517-biodeco-bioethanol-duftrichtung-tannenzapfen.php
DESCRIPTION:Je 1L
UID:myauktion-7639-2437517
BEGIN:VALARM
ACTION:DISPLAY
DESCRIPTION:Je 1L
TRIGGER:-PT10M
END:VALARM
END:VEVENT
END:VCALENDAR