BEGIN:VCALENDAR
VERSION:2.0
PRODID:-//Goldgrube//myauktion.com//AT
CALSCALE:GREGORIAN
BEGIN:VEVENT
DTSTART:20260503T122200
DTEND:20260503T122230
LOCATION:Gewerbepark 13, 8562 Mooskirchen
DTSTAMP:20260423T192637
SUMMARY:MyAuktion: Ablauf Artikel Nr. 956165 Wischers Sport Domstrebe für Opel Kadett E 16V 332018 
URL;VALUE=URI:https://www.myauktion.com/versteigerung7639-position2437521-wischers-sport-domstrebe-fuer-opel-kadett-e-16v-332018.php
DESCRIPTION:
UID:myauktion-7639-2437521
BEGIN:VALARM
ACTION:DISPLAY
DESCRIPTION:
TRIGGER:-PT10M
END:VALARM
END:VEVENT
END:VCALENDAR