BEGIN:VCALENDAR
VERSION:2.0
PRODID:-//Goldgrube//myauktion.com//AT
CALSCALE:GREGORIAN
BEGIN:VEVENT
DTSTART:20260503T125900
DTEND:20260503T125930
LOCATION:Gewerbepark 13, 8562 Mooskirchen
DTSTAMP:20260419T205716
SUMMARY:MyAuktion: Ablauf Artikel Nr. 956337 4 Fächer Mülleimer 42l 
URL;VALUE=URI:https://www.myauktion.com/versteigerung7639-position2437522-4-faecher-muelleimer-42l.php
DESCRIPTION:
UID:myauktion-7639-2437522
BEGIN:VALARM
ACTION:DISPLAY
DESCRIPTION:
TRIGGER:-PT10M
END:VALARM
END:VEVENT
END:VCALENDAR